Workbook

Sheet Feuil3
B9: INVENTAIRE LOUYOTTE des BOIS
B14: VAPEUR | C14: =COUNTA(V!C$2:C$25) -> 19
B15: AUTOMOTEUR | C15: =COUNTA(A!C$2:C$25) -> 10
B16: DIESEL | C16: =COUNTA(D!C$2:C$25) -> 11
B17: ELECTRIQUE | C17: =COUNTA(E!C$2:C$25) -> 0
B18: nb engins moteurs | C18: =SUM(C14:C17) -> 40
B21: VOYAGEURS | C21: =COUNTA(VOI!C$2:C$100) -> 7
B22: MARCHANDISES | C22: =COUNTA(WAG!C$2:C$100) -> 0
B23: nb véhicules | C23: =SUM(C19:C22) -> 7

Sheet V
C1: TYPE | D1: dépôt | F1: FABRICANT | G1: moteur T ou M | H1: Période | I1: PARTICULARITE 1 | J1: PARTICULARITE 2 | K1: OBSERVATIONS | L1: PATINE
B2: 1 | C2: 040 TB 305 | D2: HAUSBERGEN | E2: C | F2: PIKO | G2: M | H2: 2000 | L2: non
B3: 2 | C3: 141 R 1216 | D3: ARGENTAN | E3: C | F3: JOUEF | G3: T | H3: 1980 | L3: non
A4: V | B4: 3 | C4: 141 R 1246 | D4: MIRAMAS | E4: F | F4: JOUEF | G4: T | H4: 1980 | L4: non
B5: 4 | C5: 141 R 1246 | D5: MIRAMAS | E5: F | F5: JOUEF | G5: T | H5: 1980 | L5: non
A6: A | B6: 5 | C6: 141 R 1246 | D6: MIRAMAS | E6: F | F6: JOUEF | G6: T | H6: 1980 | L6: non
B7: 6 | C7: 141 R 1246 | D7: MIRAMAS | E7: F | F7: JOUEF | G7: T | H7: 1980 | L7: non
A8: P | B8: 7 | C8: 130 TB 717 | D8: STRASBOURG | E8: C | F8: TRIX | G8: M | H8: 2000 | L8: non
B9: 8 | C9: 040 TB 28 | D9: BATIGNOLES | E9: C | F9: JOUEF | G9: T | H9: 1980 | L9: non
A10: E | B10: 9 | C10: 040 TA 112 | D10: BATIGNOLES | E10: C | F10: JOUEF | G10: T | H10: 1980 | L10: non
B11: 10 | C11: 140 C 180 | D11: VERDUN | E11: C | F11: JOUEF | G11: M | H11: 1980 | L11: non
A12: U | B12: 11 | C12: 140 C 180 | D12: VERDUN | E12: C | F12: JOUEF | G12: TM ? | H12: 1980 | I12: 2 MOTEURS ??? T & M | L12: non
B13: 12 | C13: 140 C 230 | D13: MANTES | E13: C | F13: JOUEF | G13: M | H13: 1980 | L13: non
A14: R | B14: 13 | C14: 150 X 29 | D14: AUDUN le ROMAN | E14: C | F14: JOUEF | G14: T | H14: 1980 | L14: non
B15: 14 | C15: 231 K 82 | D15: CALAIS | E15: C | F15: JOUEF | G15: T | H15: 1980 | L15: non
A16: S | B16: 15 | C16: 231 C 60 | D16: - | E16: C | F16: JOUEF | G16: T | H16: 1980 | K16: un peu jouet | L16: non
B17: 16 | C17: 3.1265 (231) | D17: FIVES | E17: C | F17: JOUEF | G17: T | H17: 1980 | I17: NORD | K17: 1- pb attelage tender 2- mq un morceau de bielle | L17: non
B18: 17 | C18: 150 Y 1993 | D18: HAGUENAU | E18: C | F18: PIKO | G18: T | H18: 1980 | I18: CONDENSATION | K18: 1- pb de bielle | L18: non
B19: 18 | C19: 38 - 1807 | E19: C | F19: MâRKLIN | G19: M | H19: 1980 | I19: 3 rails | K19: déco dépôt | L19: non
B20: 19 | C20: 30 -135 (030) | E20: C | F20: JOUEF | G20: M | H20: 1980 | I20: ETAT | L20: non
B21: 20
B22: 21
B23: 22
B24: 23
B25: 24
B26: 25

Sheet A
C1: TYPE | D1: dépôt | F1: FABRICANT | G1: moteur T ou M | H1: Période | I1: PARTICULARITE 1 | J1: PARTICULARITE 2 | K1: OBSERVATIONS | L1: PATINE
B2: 81 | C2: TBDu 2047 | D2: CAEN | E2: F | F2: JOUEF | H2: 1980 | I2: + TRABu 42024 + TBDu 2047 | K2: Turbotrain Argent | L2: non
B3: 82 | C3: XBD 4923 | E3: F | F3: JOUEF | H3: 1980 | I3: + XRAB 8912 + XBD 4923 | K3: Bleu | L3: non
A4: A | B4: 83 | C4: XBD 4737 | E4: F | F4: JOUEF | H4: 1980 | I4: + XRABx 8734 | K4: toit rouge | L4: non
B5: 84 | C5: XBD 4737 | E5: F | F5: JOUEF | H5: 1980 | J5: motrice seule | K5: toit rouge | L5: non
A6: U | B6: 85 | C6: X 3827 | E6: F | F6: JOUEF | H6: 1980 | I6: + XB 8147 | K6: toit rouge | L6: non
B7: 86 | C7: XBDP 3217 | D7: LONGUEAU | E7: F | F7: ELECTROTREN | H7: 2000 | J7: ABJ 3 | K7: toit crème | L7: non
A8: T | B8: 87 | C8: XBDP 3621 | D8: BORDEAUX | E8: F | F8: ELECTROTREN | H8: 2000 | J8: ABJ 4 | K8: toit rouge | L8: non
B9: 88 | C9: ZZ R3406 | E9: F | F9: ELECTROTREN | H9: 2000 | J9: ABJ 1 | K9: gris/bordeaux | L9: non
A10: O | B10: 89 | C10: XABDP 2404 | D10: LIMOGES | E10: F | F10: ELECTROTREN | H10: 2000 | K10: toit crème | L10: non
B11: 90 | C11: X 2778 | D11: LYON VAISE | E11: F | F11: ROCO | H11: 2000 | I11: + XR 7775 (NOISY LE SEC) | J11: remorque en banane ! | L11: non
A12: M | B12: 91 | L12: non
B13: 92 | L13: non
A14: O | B14: 93 | L14: non
B15: 94 | L15: non
A16: T | B16: 95 | L16: non
L17: non
A18: E | L18: non
L19: non
A20: U | L20: non
A22: R
A24: S

Sheet D
C1: TYPE | D1: dépôt | F1: FABRICANT | H1: Période | I1: PARTICULARITE 1 | J1: PARTICULARITE 2 | K1: OBSERVATIONS | L1: PATINE
B2: 51 | C2: CC 65505 | D2: LA PLAINE | E2: F | F2: ELECTROTREN | H2: 2000 | L2: non
B3: 52 | C3: BB 63814 | D3: AVIGNON | E3: F | F3: PIKO | H3: 2000 | L3: non
A4: D | B4: 53 | C4: CC 70002 | E4: F | F4: JOUEF | H4: 1980 | L4: non
B5: 54 | C5: BB 670001 | E5: F | F5: JOUEF | H5: 1980 | L5: non
A6: I | B6: 55 | C6: BB 66150 | E6: F | F6: JOUEF | H6: 1980 | L6: non
B7: 56 | C7: CC 72001 | E7: F | F7: JOUEF | H7: 1980 | L7: non
A8: E | B8: 57 | C8: CC 72001 | E8: F | F8: JOUEF | H8: 1980 | L8: non
B9: 58 | C9: CC 72001 | E9: F | F9: JOUEF | H9: 1980 | L9: non
A10: S | B10: 59 | C10: DRAISINE | E10: F | F10: JOUEF | H10: 1980 | L10: non
B11: 60 | C11: DRAISINE | E11: F | F11: JOUEF | H11: 1980 | K11: avec fut d'huile | L11: non
A12: E | B12: 61 | C12: cc 61004 | E12: F | F12: JOUEF | H12: 1980 | K12: mécano de manœuvre | L12: non
B13: 62 | L13: non
A14: L | B14: 63 | L14: non
B15: 64 | L15: non
A16: S | B16: 65 | L16: non
L17: non
L18: non
L19: non
L20: non

Sheet E
C1: TYPE | D1: dépôt | F1: FABRICANT | G1: moteur T ou M | H1: Période | I1: PARTICULARITE 1 | J1: PARTICULARITE 2 | K1: OBSERVATIONS | L1: PATINE
B2: 41 | L2: non
B3: 42
A4: E | B4: 43
B5: 44
A6: L | B6: 45
B7: 46
A8: E | B8: 47
B9: 48
A10: C | B10: 49
A12: T
A14: R
A16: I
A18: Q
A20: U
A22: E

Sheet VOI
C1: TYPE | D1: Bogies 3 ou 2 essieux | E1: VRF | F1: FABRICANT | H1: Période | I1: PARTICULARITE 1 | J1: PARTICULARITE 2 | K1: OBSERVATIONS | L1: PATINE
B2: 101 | C2: TRABu 42024 | D2: B | E2: V | F2: JOUEF | H2: 1980 | I2: r1 | K2: Turbotrain Argent | L2: non
B3: =+B2+1 -> 102 | C3: TBDu 2047 | D3: B | E3: V | F3: JOUEF | H3: 1980 | I3: fausse motrice | K3: Turbotrain Argent
A4: V | B4: =+B3+1 -> 103 | C4: XRAB 8912 | D4: B | E4: V | F4: JOUEF | H4: 1980 | I4: RI | K4: bleue
B5: =+B4+1 -> 104 | C5: XBD 4923 | D5: B | E5: V | F5: JOUEF | H5: 1980 | I5: fausse motrice | K5: bleue
A6: O | B6: =+B5+1 -> 105 | C6: XRABx 8734 | D6: B | E6: V | F6: JOUEF | H6: 1980 | I6: remorque
B7: =+B6+1 -> 106 | C7: XB 8147 | D7: B | E7: V | F7: JOUEF | H7: 1980 | I7: fausse motrice
A8: Y | B8: =+B7+1 -> 107 | C8: XR 7775 | D8: B | E8: V | F8: JOUEF | H8: 1980 | I8: remorque | J8: bananée..
B9: =+B8+1 -> 108
A10: A | B10: =+B9+1 -> 109
B11: =+B10+1 -> 110
A12: G | B12: =+B11+1 -> 111
B13: =+B12+1 -> 112
A14: E | B14: =+B13+1 -> 113
B15: =+B14+1 -> 114
A16: U | B16: =+B15+1 -> 115
B17: =+B16+1 -> 116
A18: R | B18: =+B17+1 -> 117
B19: =+B18+1 -> 118
A20: S | B20: =+B19+1 -> 119
B21: =+B20+1 -> 120
B22: =+B21+1 -> 121
B23: =+B22+1 -> 122
B24: =+B23+1 -> 123
B25: =+B24+1 -> 124
B26: =+B25+1 -> 125
B27: =+B26+1 -> 126
B28: =+B27+1 -> 127
B29: =+B28+1 -> 128
B30: =+B29+1 -> 129
B31: =+B30+1 -> 130
B32: =+B31+1 -> 131
... B52: =+B51+1 -> 151

Sheet WAG
C1: TYPE | D1: Bogies 3 ou 2 essieux | F1: FABRICANT | H1: Période | I1: PARTICULARITE 1 | J1: PARTICULARITE 2 | K1: OBSERVATIONS | L1: PATINE
B2: 201 | L2: non
B3: =+B2+1 -> 202
A4: M | B4: =+B3+1 -> 203
B5: =+B4+1 -> 204
A6: A | B6: =+B5+1 -> 205
B7: =+B6+1 -> 206
A8: R | B8: =+B7+1 -> 207
B9: =+B8+1 -> 208
A10: C | B10: =+B9+1 -> 209
B11: =+B10+1 -> 210
A12: H | B12: =+B11+1 -> 211
B13: =+B12+1 -> 212
A14: A | B14: =+B13+1 -> 213
B15: =+B14+1 -> 214
A16: N | B16: =+B15+1 -> 215
B17: =+B16+1 -> 216
A18: D | B18: =+B17+1 -> 217
B19: =+B18+1 -> 218
A20: I | B20: =+B19+1 -> 219
B21: =+B20+1 -> 220
A22: S | B22: =+B21+1 -> 221
B23: =+B22+1 -> 222
A24: E | B24: =+B23+1 -> 223
B25: =+B24+1 -> 224
A26: S | B26: =+B25+1 -> 225
